BEGIN:VCALENDAR
VERSION:2.0
PRODID:-//pretix//HP_Tickets//
BEGIN:VEVENT
UID:pretix-r3-hpf25-0@tickets.haldernpop.com
DTSTART;VALUE=DATE:20250806
DTEND;VALUE=DATE:20250810
DESCRIPTION:Tickets: https://tickets.haldernpop.com/r3/hpf25/\nVeranstalter
 : Haldern Pop
DTSTAMP:20260421T083716Z
LOCATION:Haldern Pop Festival\, Alter Reitplatz\, Lohstraße\, 46459 Rees-H
 aldern
SUMMARY:Haldern Pop Festival 2025
END:VEVENT
END:VCALENDAR
